BEGIN:VCALENDAR
VERSION:2.0
PRODID:-//Clydesdale&#039;s Heritage - ECPv6.8.2//NONSGML v1.0//EN
CALSCALE:GREGORIAN
METHOD:PUBLISH
X-WR-CALNAME:Clydesdale&#039;s Heritage
X-ORIGINAL-URL:https://clydesdalesheritage.org.uk
X-WR-CALDESC:Events for Clydesdale&#039;s Heritage
REFRESH-INTERVAL;VALUE=DURATION:PT1H
X-Robots-Tag:noindex
X-PUBLISHED-TTL:PT1H
BEGIN:VTIMEZONE
TZID:UTC
BEGIN:STANDARD
TZOFFSETFROM:+0000
TZOFFSETTO:+0000
TZNAME:UTC
DTSTART:20260101T000000
END:STANDARD
END:VTIMEZONE
BEGIN:VEVENT
DTSTART;TZID=UTC:20260112T193000
DTEND;TZID=UTC:20260112T210000
DTSTAMP:20260418T005235
CREATED:20251014T193015Z
LAST-MODIFIED:20251014T194043Z
UID:2272-1768246200-1768251600@clydesdalesheritage.org.uk
SUMMARY:Roman villas and towns near Vesuvius - a talk by Ed Archer
DESCRIPTION:Members free\, non-members £7
URL:https://clydesdalesheritage.org.uk/event/roman-villas-and-towns-near-vesuvius-a-talk-by-ed-archer/
LOCATION:St Nicholas Church Hall\,  Castlegate\, Lanark\, St Nicholas Church Hall\, Castlegate (opposite car park)\, Lanark\, South Lanarkshire\, ML11 9DZ\, United Kingdom
ATTACH;FMTTYPE=image/jpeg:https://clydesdalesheritage.org.uk/wp-content/uploads/2025/10/vesuvius.jpg
END:VEVENT
END:VCALENDAR