BEGIN:VCALENDAR
VERSION:2.0
PRODID:-//Clydesdale&#039;s Heritage - ECPv6.8.2//NONSGML v1.0//EN
CALSCALE:GREGORIAN
METHOD:PUBLISH
X-WR-CALNAME:Clydesdale&#039;s Heritage
X-ORIGINAL-URL:https://clydesdalesheritage.org.uk
X-WR-CALDESC:Events for Clydesdale&#039;s Heritage
REFRESH-INTERVAL;VALUE=DURATION:PT1H
X-Robots-Tag:noindex
X-PUBLISHED-TTL:PT1H
BEGIN:VTIMEZONE
TZID:UTC
BEGIN:STANDARD
TZOFFSETFROM:+0000
TZOFFSETTO:+0000
TZNAME:UTC
DTSTART:20200101T000000
END:STANDARD
END:VTIMEZONE
BEGIN:VEVENT
DTSTART;TZID=UTC:20220919T183000
DTEND;TZID=UTC:20220919T203000
DTSTAMP:20260425T103022
CREATED:20220901T120725Z
LAST-MODIFIED:20220901T120725Z
UID:1082-1663612200-1663619400@clydesdalesheritage.org.uk
SUMMARY:LADAS AGM
DESCRIPTION:The Lanark and District Archaeological Society is pleased to be hosting its AGM on Monday\, 19th September in Lanark Library. \nThe AGM will commence at 7.30pm\, and as well as the formal business\, there will be an illustrated reminiscence session about Tam Ward and his many achievements in the field of archaeology over the past forty years. \nThere will also be an opportunity to book a trip – taking place on Saturday\, 8th October – to Hadrian’s Wall to see Vindolanda and Corbridge. The cost\, including transport and site admissions\, will be £35. \nFor further information on the AGM or the Hadrian’s Wall trip\, please telephone 01555662683.
URL:https://clydesdalesheritage.org.uk/event/ladas-agm-2022/
LOCATION:Lanark Library\, 16 Hope Street\, Lanark\, South Lanarkshire\, ML11 7LZ\, United Kingdom
END:VEVENT
BEGIN:VEVENT
DTSTART;TZID=UTC:20201112T193000
DTEND;TZID=UTC:20201112T210000
DTSTAMP:20260425T103022
CREATED:20200908T172534Z
LAST-MODIFIED:20200908T172534Z
UID:118-1605209400-1605214800@clydesdalesheritage.org.uk
SUMMARY:Lanark War Dead of World War 1
DESCRIPTION:Presented by Paul Archibald
URL:https://clydesdalesheritage.org.uk/event/lanark-war-dead-of-world-war-1/
LOCATION:Lanark Library\, 16 Hope Street\, Lanark\, South Lanarkshire\, ML11 7LZ\, United Kingdom
END:VEVENT
BEGIN:VEVENT
DTSTART;TZID=UTC:20200917T193000
DTEND;TZID=UTC:20200917T213000
DTSTAMP:20260425T103022
CREATED:20200908T172206Z
LAST-MODIFIED:20200908T172206Z
UID:116-1600371000-1600378200@clydesdalesheritage.org.uk
SUMMARY:LADAS AGM
DESCRIPTION:
URL:https://clydesdalesheritage.org.uk/event/ladas-agm/
LOCATION:Lanark Library\, 16 Hope Street\, Lanark\, South Lanarkshire\, ML11 7LZ\, United Kingdom
END:VEVENT
END:VCALENDAR