BEGIN:VCALENDAR
VERSION:2.0
PRODID:-//Clydesdale&#039;s Heritage - ECPv6.8.2//NONSGML v1.0//EN
CALSCALE:GREGORIAN
METHOD:PUBLISH
X-WR-CALNAME:Clydesdale&#039;s Heritage
X-ORIGINAL-URL:https://clydesdalesheritage.org.uk
X-WR-CALDESC:Events for Clydesdale&#039;s Heritage
REFRESH-INTERVAL;VALUE=DURATION:PT1H
X-Robots-Tag:noindex
X-PUBLISHED-TTL:PT1H
BEGIN:VTIMEZONE
TZID:UTC
BEGIN:STANDARD
TZOFFSETFROM:+0000
TZOFFSETTO:+0000
TZNAME:UTC
DTSTART:20240101T000000
END:STANDARD
END:VTIMEZONE
BEGIN:VEVENT
DTSTART;TZID=UTC:20241014T193000
DTEND;TZID=UTC:20241014T210000
DTSTAMP:20260424T095500
CREATED:20241003T114419Z
LAST-MODIFIED:20241003T114638Z
UID:1292-1728934200-1728939600@clydesdalesheritage.org.uk
SUMMARY:Grace Carrick Ward lecture - "Biggar in Old Photographs"
DESCRIPTION:The next Lanark and District Archaeological Society (LADAS) talk will take place at 7.30pm on Monday\, 14 October 2024 in the St. Nicholas Church Hall (down from ex-Lidl building\, Castlegate)\, Lanark. \nWe are delighted to welcome Grace who will give a lecture on the theme of “Biggar in Old Photographs”. \nAll welcome! \nAdmission charge to lectures for non-LADAS members is £5. \n  \nLADAS Committee
URL:https://clydesdalesheritage.org.uk/event/grace-carrick-ward-lecture-biggar-in-old-photographs/
LOCATION:St Nicholas Church Hall\,  Castlegate\, Lanark\, St Nicholas Church Hall\, Castlegate (opposite car park)\, Lanark\, South Lanarkshire\, ML11 9DZ\, United Kingdom
ATTACH;FMTTYPE=image/jpeg:https://clydesdalesheritage.org.uk/wp-content/uploads/2024/10/241003-Grace-Carrick-Ward-lecture-notice.jpg
ORGANIZER;CN="Edward Archer":MAILTO:earcher286@aol.com
END:VEVENT
END:VCALENDAR