BEGIN:VCALENDAR
VERSION:2.0
PRODID:-//Clydesdale&#039;s Heritage - ECPv6.8.2//NONSGML v1.0//EN
CALSCALE:GREGORIAN
METHOD:PUBLISH
X-WR-CALNAME:Clydesdale&#039;s Heritage
X-ORIGINAL-URL:https://clydesdalesheritage.org.uk
X-WR-CALDESC:Events for Clydesdale&#039;s Heritage
REFRESH-INTERVAL;VALUE=DURATION:PT1H
X-Robots-Tag:noindex
X-PUBLISHED-TTL:PT1H
BEGIN:VTIMEZONE
TZID:UTC
BEGIN:STANDARD
TZOFFSETFROM:+0000
TZOFFSETTO:+0000
TZNAME:UTC
DTSTART:20250101T000000
END:STANDARD
END:VTIMEZONE
BEGIN:VEVENT
DTSTART;TZID=UTC:20250210T193000
DTEND;TZID=UTC:20250210T210000
DTSTAMP:20260418T004653
CREATED:20250205T181919Z
LAST-MODIFIED:20250205T182604Z
UID:1555-1739215800-1739221200@clydesdalesheritage.org.uk
SUMMARY:Dane Love lecture - "The Covenanters in Lanarkshire"
DESCRIPTION:Dane Love is the author of over 30 books on Scottish subjects and writes from his residence in Ayrshire.\nThe Lanark and District Archaeological Society (LADAS) is delighted to welcome Dane to address the group on the popular subject of the Covenanters. Please join us to hear Dane speak about “The Covenanters in Lanarkshire”. \nTo support LADAS meet its running costs\, we kindly ask non-members to pay a lecture fee of 5 pounds. \nDetails of Dane’s work can be found at his website: www.dane-love.co.uk/ \nWe hope to see you for Dane’s lecture! All are welcome!
URL:https://clydesdalesheritage.org.uk/event/dane-love-lecture-the-covenanters-in-lanarkshire/
LOCATION:St Nicholas Church Hall\,  Castlegate\, Lanark\, St Nicholas Church Hall\, Castlegate (opposite car park)\, Lanark\, South Lanarkshire\, ML11 9DZ\, United Kingdom
ATTACH;FMTTYPE=image/jpeg:https://clydesdalesheritage.org.uk/wp-content/uploads/2025/02/feb10th-2025-Covenanters-1.jpg
ORGANIZER;CN="Edward Archer":MAILTO:earcher286@aol.com
END:VEVENT
END:VCALENDAR